BEGIN:VCALENDAR
VERSION:2.0
PRODID:-//Event-List//NONSGML Event-List 3.8.3//DE
CALSCALE:GREGORIAN
METHOD:PUBLISH
BEGIN:VEVENT
DTSTAMP:20260426T022042
DTSTART:20181116T193000
UID:20260426T022042@www.wch77.de
SUMMARY:Windsurfer-Jahresabschlussfeier
CONTACT:Windsurfing Club Hessenaue
LOCATION:Hotel Zum Erker,Hauptstraße 1,65468 Trebur
DESCRIPTION:http://www.zum-erker.de/
CATEGORIES:Surfclub
END:VEVENT
END:VCALENDAR
