BEGIN:VCALENDAR
VERSION:2.0
PRODID:-//Event-List//NONSGML Event-List 3.8.3//DE
CALSCALE:GREGORIAN
METHOD:PUBLISH
BEGIN:VEVENT
DTSTAMP:20260422T132247
DTSTART;VALUE=DATE:20180301
DTEND;VALUE=DATE:20180331
UID:20260422T132247@www.wch77.de
SUMMARY:Meldung für Arbeitseinsätze 2018
DESCRIPTION:
END:VEVENT
END:VCALENDAR
