BEGIN:VCALENDAR
VERSION:2.0
PRODID:-//Event-List//NONSGML Event-List 3.8.3//DE
CALSCALE:GREGORIAN
METHOD:PUBLISH
BEGIN:VEVENT
DTSTAMP:20260422T151937
DTSTART:20170819T100000
UID:20260422T151937@www.wch77.de
SUMMARY:Teamregatta
CONTACT:Windsurfing Club Hessenaue, Sportwart
LOCATION:Surfsee
DESCRIPTION:Geplant: Teamregatta gegen andere Surfclubs.
CATEGORIES:Regatten
END:VEVENT
END:VCALENDAR
