BEGIN:VCALENDAR
VERSION:2.0
PRODID:-//Event-List//NONSGML Event-List 3.8.3//DE
CALSCALE:GREGORIAN
METHOD:PUBLISH
BEGIN:VEVENT
DTSTAMP:20260422T170212
DTSTART:20170303T190000
UID:20260422T170212@www.wch77.de
SUMMARY:Mitgliederversammlung in Trebur "Zum Eigenheim"
LOCATION:Restaurant Zum Eigenheim,Astheimer Straße 55,65468 Trebur 
DESCRIPTION:
CATEGORIES:Vorstand
END:VEVENT
END:VCALENDAR
