BEGIN:VCALENDAR
VERSION:2.0
PRODID:-//Event-List//NONSGML Event-List 3.8.3//DE
CALSCALE:GREGORIAN
METHOD:PUBLISH
BEGIN:VEVENT
DTSTAMP:20260423T013033
DTSTART:20160311T190000
UID:20260423T013033@www.wch77.de
SUMMARY:Mitgliederversammlung
DESCRIPTION:
CATEGORIES:Vorstand
END:VEVENT
END:VCALENDAR
