BEGIN:VCALENDAR
VERSION:2.0
PRODID:-//Event-List//NONSGML Event-List 3.8.3//DE
CALSCALE:GREGORIAN
METHOD:PUBLISH
BEGIN:VEVENT
DTSTAMP:20260422T234144
DTSTART:20150130T190000
UID:20260422T234144@www.wch77.de
SUMMARY:Mitgliederversammlung
LOCATION:Gaststätte Eigenheim,Astheimer Str. 55,65468 Trebur
DESCRIPTION:
CATEGORIES:Vorstand
END:VEVENT
END:VCALENDAR
