BEGIN:VCALENDAR
VERSION:2.0
PRODID:-//Event-List//NONSGML Event-List 3.8.3//DE
CALSCALE:GREGORIAN
METHOD:PUBLISH
BEGIN:VEVENT
DTSTAMP:20260423T120546
DTSTART:20141012T130000
UID:20260423T120546@www.wch77.de
SUMMARY:Ausweichtermin One Hour
DESCRIPTION:Bei dieser Regatta geht es im Halbwindkurs eine Stunde lang um zwei Bojen.
  Wer die meisten Runden in diesem Zeitrahmen erzielt hat, ist der Sieger.
  Hier steht der Spassfaktor im Vordergrund. Also keine Angst, einfach
  vorbeikommen und mitmachen. Surfbretter jeder Art können genutzt
  werden.\n\nStart der Regatta: 14:00 Uhr
CATEGORIES:Regatten
END:VEVENT
END:VCALENDAR
