BEGIN:VCALENDAR
VERSION:2.0
PRODID:-//Event-List//NONSGML Event-List 3.8.3//DE
CALSCALE:GREGORIAN
METHOD:PUBLISH
BEGIN:VEVENT
DTSTAMP:20260423T183546
DTSTART:20130817T180000
UID:20260423T183546@www.wch77.de
SUMMARY:Sommerfest am See (Arbeitseinsatz belegt) 
CONTACT:Windsurfing Club Hessenaue
DESCRIPTION:Anmeldung ist nicht erforderlich. Getränke und Grill stellt der Club.
  Steaks und/oder Bratwürstchen können preisgünstig gekauft
  werden. Essgeschirr, Bestecke und Trinkgefäße sollten von zu
  Hause mitgebracht werden. Wir hoffen auf eine große Beteiligung,
  insbeondere unserer neuen Mitglieder, da dieses Fest eine gute Gelegenheit
  bietet, sich näher kennen zu lernen.
CATEGORIES:Surfclub
END:VEVENT
END:VCALENDAR
